BEGIN:VCALENDAR
VERSION:2.0
PRODID:-//The Hydrographic Society - ECPv6.15.18//NONSGML v1.0//EN
CALSCALE:GREGORIAN
METHOD:PUBLISH
X-WR-CALNAME:The Hydrographic Society
X-ORIGINAL-URL:https://ths-uki.org
X-WR-CALDESC:Events for The Hydrographic Society
REFRESH-INTERVAL;VALUE=DURATION:PT1H
X-Robots-Tag:noindex
X-PUBLISHED-TTL:PT1H
BEGIN:VTIMEZONE
TZID:Europe/London
BEGIN:DAYLIGHT
TZOFFSETFROM:+0000
TZOFFSETTO:+0100
TZNAME:BST
DTSTART:20250330T010000
END:DAYLIGHT
BEGIN:STANDARD
TZOFFSETFROM:+0100
TZOFFSETTO:+0000
TZNAME:GMT
DTSTART:20251026T010000
END:STANDARD
BEGIN:DAYLIGHT
TZOFFSETFROM:+0000
TZOFFSETTO:+0100
TZNAME:BST
DTSTART:20260329T010000
END:DAYLIGHT
BEGIN:STANDARD
TZOFFSETFROM:+0100
TZOFFSETTO:+0000
TZNAME:GMT
DTSTART:20261025T010000
END:STANDARD
BEGIN:DAYLIGHT
TZOFFSETFROM:+0000
TZOFFSETTO:+0100
TZNAME:BST
DTSTART:20270328T010000
END:DAYLIGHT
BEGIN:STANDARD
TZOFFSETFROM:+0100
TZOFFSETTO:+0000
TZNAME:GMT
DTSTART:20271031T010000
END:STANDARD
BEGIN:DAYLIGHT
TZOFFSETFROM:+0000
TZOFFSETTO:+0100
TZNAME:BST
DTSTART:20280326T010000
END:DAYLIGHT
BEGIN:STANDARD
TZOFFSETFROM:+0100
TZOFFSETTO:+0000
TZNAME:GMT
DTSTART:20281029T010000
END:STANDARD
END:VTIMEZONE
BEGIN:VEVENT
DTSTART;TZID=Europe/London:20260212T100000
DTEND;TZID=Europe/London:20260212T150000
DTSTAMP:20260424T134228
CREATED:20260127T095500Z
LAST-MODIFIED:20260202T134311Z
UID:10000155-1770890400-1770908400@ths-uki.org
SUMMARY:THS:UKI Attending Southampton University Careers Day
DESCRIPTION:We will be attending University of Southampton Ocean and Earth Science Careers Day on Thursday 12 February 2026\, 10:00 – 15:00 \nNational Oceanography Centre\, Southampton
URL:https://ths-uki.org/event/thsuki-attending-southampton-university-careers-day/
LOCATION:The National Oceanography Centre (NOC)\, European Way\, Southampton\, SO14 3ZH
CATEGORIES:Southern
ATTACH;FMTTYPE=image/jpeg:https://ths-uki.org/wp-content/uploads/2025/06/OIP-2.jpg
END:VEVENT
BEGIN:VEVENT
DTSTART;TZID=Europe/London:20260217T183000
DTEND;TZID=Europe/London:20260217T210000
DTSTAMP:20260424T134228
CREATED:20250804T175538Z
LAST-MODIFIED:20260213T152833Z
UID:10000141-1771353000-1771362000@ths-uki.org
SUMMARY:THS:UKI East Anglia Branch AGM and Presentations
DESCRIPTION:NextGeo are delighted to sponsor and host the THS:UKI East Anglia Branch Evening\nMeeting on Tuesday 17th February 2026. \nThe evening includes presentations from applied acoustics\, STR and Venterra Group plus our AGM. \nWe need a new Treasurer and we are also looking for keen new members to join the committee at the AGM. \nIf you are interested\, please get in touch! \nThe meeting will be held at the NextGeo office (address below) in Norwich.\nLight refreshments will be supplied. \n18:30 (19:00 Start) \nTHS:UKI East Anglia Branch AGM and presentations:\n– Shallow Marine Geophysical Survey & Data Acquisition Systems\, Gavin Willoughby\, applied acoustics\n– DG by Air\, John Brooker\, STR\n– Approaches to UXO risk management\, Keith Higgins\, Venterra Group \nNEXTGEO\, Harbour House\, 126 Thorpe Road\, Norwich\, NR1 1RJ \nPlease RSVP if you will be joining: THS:UKI East Anglia Branch – Evening Meeting at NextGeo – Presentations plus AGM \nFor further information please contact: eastanglia@ths-uki.org
URL:https://ths-uki.org/event/thsuki-east-anglia-agm-and-presentations/
LOCATION:Next Geosolutions UKCS Ltd\, Harbour House\, 126 Thorpe Road\, Norwich\, NR1 1RJ\, United Kingdom
CATEGORIES:East Anglia
ATTACH;FMTTYPE=image/png:https://ths-uki.org/wp-content/uploads/2025/05/The-Hydrographic-Society_Branch-Logos_CMYK_East-Anglia-Branch-scaled.png
ORGANIZER;CN="THS%3AUKI East Anglia Branch":MAILTO:thseastanglia@gmail.com
END:VEVENT
BEGIN:VEVENT
DTSTART;TZID=Europe/London:20260219T170000
DTEND;TZID=Europe/London:20260219T193000
DTSTAMP:20260424T134228
CREATED:20251219T095300Z
LAST-MODIFIED:20260305T113242Z
UID:10000149-1771520400-1771529400@ths-uki.org
SUMMARY:THS:UKI Southern Branch Joint RICS SUT Meeting
DESCRIPTION:Joint Hydrographic Society\, RICS and SUT Meeting \nThursday 19th February 2026\, 17:00 – 19:30 \nRICS London Headquarters\, 12 Great George Street\, SW1P 3AD \nThe Mapping and Surveillance of Critical Underwater Infrastructure is recognised as being of increased importance in the current Geopolitical climate\, providing as it does essential information on threats to asset integrity\, as well as the preparation and maintenance of on-going risk assessments and contingency plans. \nFor this year’s joint RICS and Hydrographic Society meeting we are once again joining forces with the Society for Underwater Technology to explore the requirements and challenges of providing this vital contribution to the resilience of critical underwater infrastructure. \nTracking\, positioning and comms for subsea vehicles\, Aidan Thorn – Sonardyne \nThe Importance of mapping existing Subsea Assets for Cable Route Design\, James Porter – Alcatel Submarine Networks \nMapping and Surveillance of Infrastructure and Assets\, Ian Davies – EIVA \n  \n \nJoint Hydrographic Society\, RICS and SUT Meeting Feb 2026 revised
URL:https://ths-uki.org/event/joint-thsuki-southern-branch-and-rics-meeting/
LOCATION:RICS London HQ\, 12 George Street\, London\, SW1P 3AD\, United Kingdom
CATEGORIES:Southern
ATTACH;FMTTYPE=image/png:https://ths-uki.org/wp-content/uploads/2024/02/The-Hydrographic-Society_Branch-Logos_CMYK_Southern-England-Branch.png
END:VEVENT
BEGIN:VEVENT
DTSTART;TZID=Europe/London:20260225T120000
DTEND;TZID=Europe/London:20260225T160000
DTSTAMP:20260424T134228
CREATED:20260127T094852Z
LAST-MODIFIED:20260202T134341Z
UID:10000154-1772020800-1772035200@ths-uki.org
SUMMARY:THS:UKI Attending Plymouth University Careers Fair
DESCRIPTION:We will be attending the Plymouth University Earth\, Marine & Environment Placement & Graduate Careers Fair on Wednesday 25th February\, 12:00 – 16:00 \nCome and find us! \nUniversity of Plymouth\,\nRolle Building\,\nDrake Circus\,\nPlymouth\,\nDevon\,\nPL4 8AA
URL:https://ths-uki.org/event/thsuki-attending-plymouth-university-careers-fair/
LOCATION:Rolle Building\, University of Plymouth\, Rolle Building\, Drake Circus\, Plymouth\, Devon\, PL4 8AA\, United Kingdom
CATEGORIES:South West
ATTACH;FMTTYPE=image/png:https://ths-uki.org/wp-content/uploads/2022/12/logo.png
END:VEVENT
BEGIN:VEVENT
DTSTART;TZID=Europe/London:20260225T183000
DTEND;TZID=Europe/London:20260225T210000
DTSTAMP:20260424T134228
CREATED:20251219T103149Z
LAST-MODIFIED:20260225T145741Z
UID:10000150-1772044200-1772053200@ths-uki.org
SUMMARY:THS:UKI Scotland Branch AGM and Presentation Evening
DESCRIPTION:The Scotland Branch will be holding their AGM on Wednesday 25th February at the Palm Court \nFollowing on from the AGM\, we’ll have an interactive presentation and panel discussion on the process and challenges faced when delivering new technology for a commercial project. Marc Richards from Ocean Winds and Tom Larby from Ordtek will join Andy Irving from Sulmara to discuss the use of eBOSS during a site-wide pre-engineering campaign where the system was used to supplement conventional survey methods.  \nDownload ‘Slido’ in advance for your chance to contribute to the discussion and answer some quiz questions. \n \nPlease contact scotland@ths-uki.org for further details
URL:https://ths-uki.org/event/thsuki-scotland-branch-agm/
LOCATION:Palm Court Hotel\, Aberdeen\, Palm Court Hotel\, 81 Seafield Road\, Aberdeen\, AB15 7YX\, United Kingdom
CATEGORIES:Scotland
ATTACH;FMTTYPE=image/png:https://ths-uki.org/wp-content/uploads/2024/05/The-Hydrographic-Society_Branch-Logos_CMYK_Scotland-Branch.png
END:VEVENT
BEGIN:VEVENT
DTSTART;TZID=Europe/London:20260304T190000
DTEND;TZID=Europe/London:20260304T200000
DTSTAMP:20260424T134228
CREATED:20260216T091513Z
LAST-MODIFIED:20260216T091526Z
UID:10000158-1772650800-1772654400@ths-uki.org
SUMMARY:THS:UKI Southern Branch AGM
DESCRIPTION:The AGM will be followed by the regular branch committee meeting. \nThe provisional agenda is: \n\nChair’s Report\nTreasurer’s Report\nElection of Branch Officers – Nominations to follow\nAOB – Please notify by COB 3rd March of any item that you would like to raise\n\nPlease RSVP to southern@ths-uki.org. Apologies are not required.
URL:https://ths-uki.org/event/thsuki-southern-branch-agm/
LOCATION:Hyde Tavern\, 57 Hyde Street\, Winchester\, SO23 7DY\, United Kingdom
CATEGORIES:Southern
ATTACH;FMTTYPE=image/png:https://ths-uki.org/wp-content/uploads/2024/02/The-Hydrographic-Society_Branch-Logos_CMYK_Southern-England-Branch.png
END:VEVENT
BEGIN:VEVENT
DTSTART;VALUE=DATE:20260310
DTEND;VALUE=DATE:20260313
DTSTAMP:20260424T134228
CREATED:20230621T135521Z
LAST-MODIFIED:20251111T100717Z
UID:10000052-1773100800-1773359999@ths-uki.org
SUMMARY:Oceanology International 2026
DESCRIPTION:Connecting The Global Ocean Technology Community\n  \n\n\n\n\nDate: 10 – 12 March 2026\nLocation: London\, Excel\n\n\n\n\n\nDiscover an ocean of opportunity\n\n\n\nOi launched in the UK in 1969 and runs every two years\, and in 2019 we celebrated our 50th anniversary. Over the years\, Oi has established itself as a truly global portfolio with events in the Middle East\, China and San Diego. \nThe three-day conference and exhibition will be returning in 2026 aiming to welcome over 8\,000 attendees and enable more than 500 exhibitors to showcase the latest ocean technologies and developments on the event floor\, as well as on water demos and vessels. \nOceanology International is the leading forum where industry\, academia and government share knowledge and connect with the world’s marine science and ocean technology communities. Learn from ocean leaders from across the globe\, boost your technical and blue economy knowledge\, and connect with your industry colleagues at one of our many social events.
URL:https://ths-uki.org/event/oceanology-international-2024/
LOCATION:Excel London\, Excel London\, Royal Victoria Dock\, 1 Western Gateway\, Royal Docks\, London\, E16 1XL\, United Kingdom
CATEGORIES:External Event
ATTACH;FMTTYPE=image/png:https://ths-uki.org/wp-content/uploads/2025/09/oceanology-1.png
END:VEVENT
BEGIN:VEVENT
DTSTART;TZID=Europe/London:20260311T130000
DTEND;TZID=Europe/London:20260311T140000
DTSTAMP:20260424T134228
CREATED:20251114T132400Z
LAST-MODIFIED:20260306T164324Z
UID:10000147-1773234000-1773237600@ths-uki.org
SUMMARY:THS:UKI AGM 2026 Oceanology International
DESCRIPTION:THS:UKI AGM 2026 \nThe Society’s Annual General Meeting is to be held on the afternoon of Wednesday 11th March at Oceanology International 2026 –  South Gallery room SG2 – Commencing from 13:00 \nAll THS:UKI members are requested to RSVP either on this event or by contacting manager@ths-uki.org \n2026 documents for AGM: \n2026 AGM – Agenda \n2026 AGM – Notice & Call for Nominations \n2026 AGM – Notes on AGM\, Proxies and the Proxy Form \n2026 AGM – Nominations Form \nStudent & New Graduate Director vote: \nTirren Ambroziak \nGeeske Droessler \nMemorandum and Articles of Association (MAA): \nTHSUK MAA – 2026 Update Rev002 \n2026 AGM – Proposed Adoption of Updated Memorandum and Articles of Association \n2025 documents for reference: \n2025 AGM – Minutes \nTHSUK 2025 Financial Statements \n 
URL:https://ths-uki.org/event/thsuki-agm-2026/
LOCATION:Excel London\, Excel London\, Royal Victoria Dock\, 1 Western Gateway\, Royal Docks\, London\, E16 1XL\, United Kingdom
CATEGORIES:National Events
ATTACH;FMTTYPE=image/png:https://ths-uki.org/wp-content/uploads/2025/03/The-Hydrographic-Society-Logo-RGB-2.png
END:VEVENT
BEGIN:VEVENT
DTSTART;TZID=Europe/London:20260316T140000
DTEND;TZID=Europe/London:20260316T150000
DTSTAMP:20260424T134228
CREATED:20251222T095658Z
LAST-MODIFIED:20260202T115417Z
UID:10000152-1773669600-1773673200@ths-uki.org
SUMMARY:HPAS Webinar - Build a Successful Application
DESCRIPTION:https://form.jotform.com/253383944474366
URL:https://ths-uki.org/event/hpas-webinar-build-a-successful-application-2/
CATEGORIES:National Events
ATTACH;FMTTYPE=image/jpeg:https://ths-uki.org/wp-content/uploads/2024/10/IFHS-Logo.jpg
LOCATION:https://ths-uki.org/event/hpas-webinar-build-a-successful-application-2/
END:VEVENT
BEGIN:VEVENT
DTSTART;TZID=Europe/London:20260326T180000
DTEND;TZID=Europe/London:20260326T233000
DTSTAMP:20260424T134228
CREATED:20251222T094017Z
LAST-MODIFIED:20260114T113644Z
UID:10000151-1774548000-1774567800@ths-uki.org
SUMMARY:THS:UKI Scotland Branch Annual Members Dinner
DESCRIPTION:THS:UKI Scotland Branch is pleased to invite you to our Annual Members’ Dinner\, at the Chester Hotel in Aberdeen\, on Thursday 26th March 2026. \nGold\, Silver\, and Bronze sponsorship opportunities are available\, please see the flyer for more details. In addition\, we will shortly be announcing additional sponsorship packages in support of our event. \nTHS:UKI Scotland Branch will be supporting two charities with our raffle\, tickets available on the night\, if you would like to donate a prize\, please respond to scotland@ths-uki.org with details. \nDetails about the Annual Members’ Dinner\, sponsorship opportunities and raffle prize donation\, can be found on the attached flyer. \nWe look forward to welcoming you to the Chester Hotel on 26th March\, doors open at 18:00 and we wrap up at midnight. \n \nTHSUK&IRELAND SCOTLAND BRANCH – AMD2026
URL:https://ths-uki.org/event/thsuki-scotland-branch-annual-members-dinner-2/
LOCATION:The Chester Hotel\, Aberdeen\, The Chester Hotel\, 59-63 Queens Road\, Aberdeen\, AB15 4YP\, United Kingdom
CATEGORIES:Scotland
ATTACH;FMTTYPE=image/png:https://ths-uki.org/wp-content/uploads/2024/11/cropped-ths-annual-dinner.png
END:VEVENT
BEGIN:VEVENT
DTSTART;VALUE=DATE:20260415
DTEND;VALUE=DATE:20260416
DTSTAMP:20260424T134228
CREATED:20260228T122134Z
LAST-MODIFIED:20260318T125849Z
UID:10000160-1776211200-1776297599@ths-uki.org
SUMMARY:THS:UKI Scotland Branch Hydrofest 2026
DESCRIPTION:THS:UKI Scotland Branch invites you to join us at Hydrofest 2026 on Wednesday 15th April 2026 at the Sandman Hotel in Aberdeen. \nBooking details:\nDelegate Fee – £65\nIncludes tea and coffee\, and lunch. No charge for full-time students in a Surveying or Marine related subject.\nExhibitor Fee – £175\nIncludes space for a pop-up stand and attendance for one delegate (incl. all refreshments and lunch). \nTo book email: scotland@ths-uki.org\n  \nHydrofest is a one-day event dedicated to Hydrographic Survey for the offshore energy sector. You will hear from leading industry professionals on key topics\, including; \n\nThe role of Hydrographic Survey\nSurface and subsea positioning;\nSurvey sensors\nProject case study and delivery\nData deliverables and reporting\n\nHydrofest 2026 is ideal for students\, engineers\, project managers\, offshore industry professionals\, onshore support roles or anyone considering or just starting a career in Hydrographic Surveying. \nSee the attached flyer for more details on how to book your place today: Hydrofest 2026 \n \nWould your company like to be part of Hydrofest? \nEach year at Hydrofest we have exhibitor spaces available\, giving our student visitors the opportunity to meet with a range of companies involved in our sector. If has proven to be a valuable addition to the day for both delegates and exhibitors. Please see the attached flyer for details and get in touch to book your exhibitor slot.
URL:https://ths-uki.org/event/thsuki-scotland-branch-hydrofest-2026/
LOCATION:Sandman Hotel\, St Andrews Street\, Aberdeen\, AB25 1AD\, United Kingdom
CATEGORIES:Scotland
ATTACH;FMTTYPE=image/png:https://ths-uki.org/wp-content/uploads/2024/05/The-Hydrographic-Society_Branch-Logos_CMYK_Scotland-Branch.png
END:VEVENT
BEGIN:VEVENT
DTSTART;TZID=Europe/London:20260415T120000
DTEND;TZID=Europe/London:20260415T130000
DTSTAMP:20260424T134228
CREATED:20260330T144642Z
LAST-MODIFIED:20260330T144642Z
UID:10000164-1776254400-1776258000@ths-uki.org
SUMMARY:THS:UKI Ireland Branch AGM
DESCRIPTION:The Ireland Branch will hold its AGM online on 15th April\, 2026 at 1200Hrs. Please contact Fergal McGrath (Fergal.mcgrath@marine.ie) for the link should you not already have it
URL:https://ths-uki.org/event/thsuki-ireland-branch-agm/
CATEGORIES:Ireland
END:VEVENT
BEGIN:VEVENT
DTSTART;TZID=Europe/London:20260421T190000
DTEND;TZID=Europe/London:20260421T210000
DTSTAMP:20260424T134228
CREATED:20260225T185852Z
LAST-MODIFIED:20260415T102333Z
UID:10000159-1776798000-1776805200@ths-uki.org
SUMMARY:THS:UKI South West Branch Industry Networking Event
DESCRIPTION:Meet a panel of experts and get a chance to have 1:1 discussions with companies & members! \nThis is a fantastic opportunity to find all about Hydrography as a career from the people who have ‘been there and done it’! \nAll students are welcome to attend\, whether already studying hydrography\, Ocean Exploration or a marine science course\, or just wanting to find out more about hydrography as a career. \nThe evening will be split into two parts broken up by an informal buffet meal in the middle:\nPart 1 | Meet the Panel of Experts\nA varied group of individuals covering everything from Offshore Surveying\, Coastal Survey Operations\, Geodesy to surveying using Uncrewed Surface Vessels\, will be on hand to answer your toughest questions. \nPart 2 | One-on-One\nA wider number of individuals and corporate companies will also be present to have short 5 minute one-on-one discussions with those students/graduates wishing to find out about specific roles\, possible job opportunities and just general industry advice. \nEarly bird student tickets £3 (£5 from 14th April) \nEarly bird individual tickets £5 (£10 from 14th April) \nSubscribe to the e-bulletin to stay up to date! \nCompanies interested in participating please contact southwest@ths-uki.org
URL:https://ths-uki.org/event/thsuki-south-west-branch-industry-networking-event/
LOCATION:The Roundabout\, 2-4 Drake Circus\, Plymouth\, PL4 8AQ\, United Kingdom
CATEGORIES:South West
ATTACH;FMTTYPE=image/png:https://ths-uki.org/wp-content/uploads/2024/10/The-Hydrographic-Society_Branch-Logos_CMYK_South-West-England-Branch.png
END:VEVENT
BEGIN:VEVENT
DTSTART;TZID=Europe/London:20260423T190000
DTEND;TZID=Europe/London:20260423T210000
DTSTAMP:20260424T134228
CREATED:20260330T144454Z
LAST-MODIFIED:20260413T082742Z
UID:10000163-1776970800-1776978000@ths-uki.org
SUMMARY:THS:UKI North West Branch Event
DESCRIPTION:When – Thursday 23rd April\, 7pm onwards\nWhere – Goshawk pub\, Cheshire (Station Rd\, Chester CH3 8AJ – Google Map Link)\nWhy – Social gathering offering the opportunity to socialise\, network\, catch up and have a drink and as an option\, something to eat \nPlease can you RSVP to this email if you intend to join us so we can get an idea of numbers. \nMeeting from 7pm onwards\, there is an option to eat with tables booked from 7.30pm (there is no obligation to eat). \nAs a reminder\, you do not have to be a Hydrographic Society member to join our branch meetings\, but should you or your company wish to join and contribute to our efforts\, you can find more details here: https://ths-uki.org/ 
URL:https://ths-uki.org/event/thsuki-north-west-branch-event/
LOCATION:The Goshawk\, Station Road\, Chester\, CH3 8AJ\, The Goshawk\, Station Road\, Chester\, CH3 8AJ\, United Kingdom
CATEGORIES:North West
ORGANIZER;CN="THS%3AUKI North West Branch":MAILTO:thsnw@outlook.com
END:VEVENT
BEGIN:VEVENT
DTSTART;TZID=Europe/London:20260429T183000
DTEND;TZID=Europe/London:20260429T213000
DTSTAMP:20260424T134228
CREATED:20260203T144356Z
LAST-MODIFIED:20260420T110717Z
UID:10000157-1777487400-1777498200@ths-uki.org
SUMMARY:THS:UKI Scotland Branch Sensors and Solutions Evening
DESCRIPTION:The popular Sensors and Solutions evening is returning on Wednesday\, 29th April 2026 at the Palm Court Hotel\, Aberdeen\, running from 18:30 to 21:30. \nThe event offers a relaxed\, industry-focused platform for companies supplying survey technology to showcase their latest products\, innovations\, and approaches. \nWhat the evening offers: \n Open showcase format rather than academic presentations. \n\nPresenter registration fee: £100\, which includes a 5‑minute pitch slot and a table/stand at the event to promote your offering.\nAudience: Survey professionals and decision makers from across the industry.\n\nPresentation guidance: \nEach presentation slot should cover\, as a minimum: \n\nIntroduction of the company and presenter\nOverview of the sensor\, technology\, or solution\nExplanation of its value and impact\nA short case study or example of use\n\nWe look forward to receiving your confirmations\, and hearing from you regarding proposed topics and speakers. We will be inviting applications from the wider survey community\, but it would be a missed opportunity not to showcase the excellent work coming from your own organisations. \nTickets are free for individuals\, please RSVP
URL:https://ths-uki.org/event/thsuki-scotland-branch-sensors-and-solutions-evening/
LOCATION:Palm Court Hotel\, Aberdeen\, Palm Court Hotel\, 81 Seafield Road\, Aberdeen\, AB15 7YX\, United Kingdom
CATEGORIES:Scotland
ATTACH;FMTTYPE=image/png:https://ths-uki.org/wp-content/uploads/2024/05/The-Hydrographic-Society_Branch-Logos_CMYK_Scotland-Branch.png
END:VEVENT
BEGIN:VEVENT
DTSTART;VALUE=DATE:20260521
DTEND;VALUE=DATE:20260522
DTSTAMP:20260424T134228
CREATED:20260316T151342Z
LAST-MODIFIED:20260316T151544Z
UID:10000161-1779321600-1779407999@ths-uki.org
SUMMARY:THS:UKI Scotland Branch Tech Beneath
DESCRIPTION:Join IMCA\, The Society for Underwater Technology and The Hydrographic Society UK – Scotland Branch on the 21st of May 2026 for a dynamic exhibition showcasing the latest technological developments in the offshore\, marine\, and subsea industries. \nThis year’s event will be held at the Crowne Plaza Hotel\, Aberdeen Airport. Delegates will have the opportunity to explore a vibrant exhibition featuring the latest products and technologies from leading companies in the offshore\, marine\, and subsea sectors. Throughout the day\, you can freely visit exhibitor stands\, engage in hands-on demonstrations\, and connect with subject matter experts to gain practical insights and ask questions about emerging solutions. \nIn addition to informal networking\, you are invited to attend scheduled demonstrations\, where each exhibitor will showcase their technology to all attendees in a series of focused 15 minute sessions. \nThe event aims to encourage knowledge-sharing\, highlight emerging technologies\, and strengthen partnerships within the marine and subsea sectors. \nExhibitor applications are now open\, please see the attached 4-page flyer for full details and follow the instructions for submitting your exhibitor application. \nTechBeneath26_Exhibitors
URL:https://ths-uki.org/event/thsuki-scotland-branch-tech-beneath/
LOCATION:Crowne Plaza\, Aberdeen\, 2 International Gate\, Dyce\, Aberdeen\, AB21 0BE\, United Kingdom
CATEGORIES:Scotland
ATTACH;FMTTYPE=image/png:https://ths-uki.org/wp-content/uploads/2024/05/The-Hydrographic-Society_Branch-Logos_CMYK_Scotland-Branch.png
END:VEVENT
BEGIN:VEVENT
DTSTART;VALUE=DATE:20261027
DTEND;VALUE=DATE:20261030
DTSTAMP:20260424T134228
CREATED:20260203T091250Z
LAST-MODIFIED:20260316T152041Z
UID:10000156-1793059200-1793318399@ths-uki.org
SUMMARY:HYDRO 2026
DESCRIPTION:The Hydrographic Society of Benelux are hosting HYDRO 2026!\n  \nDate: October 27-29\, 2026 \nLocation: Waagnatie – Expo & Events Rijnkaai 150\, 2000 Antwerp\, Belgium\n  \nDetails about the event hall can be found here \n 
URL:https://ths-uki.org/event/hydro-2026/
LOCATION:Waagnatie – Expo & Events Rijnkaai 150\, 2000 Antwerp\, Belgium
CATEGORIES:External Event
ATTACH;FMTTYPE=image/png:https://ths-uki.org/wp-content/uploads/2026/02/Hydro2026-e1770109930936.png
END:VEVENT
BEGIN:VEVENT
DTSTART;VALUE=DATE:20270201
DTEND;VALUE=DATE:20270227
DTSTAMP:20260424T134228
CREATED:20260316T152848Z
LAST-MODIFIED:20260316T152848Z
UID:10000162-1801440000-1803686399@ths-uki.org
SUMMARY:Remote Hydro 2027
DESCRIPTION:PLEASE NOTE: FEBRUARY 2027 – DATE TBC\n  \nRegister your interest here: Remote Hydrography 2027 – The Hydrographic Society\n  \nThis event brings together manufacturers\, operators\, regulators\, and research and development leaders from both industry and academia\, within the rapidly developing field of remote surveying and uncrewed survey operations. \nRemote Hydrography 2027 provides an opportunity to share experience gained in the development and application of autonomous and uncrewed platforms (surface\, underwater\, aerial\, and space-based) and the associated command and support services. These and enabling technologies like machine learning and artificial intelligence will revolutionise workflows for hydrographic data collection\, processing\, analysis\, and presentation. \nThe conference will build on the success of the 2024 event which featured informative lively debates\, both in session and during the busy social programme. The 2027 event will also provide formal and informal opportunities to network\, make contacts\, and build relationships. Through leaders\, innovators\, and practitioners\, Remote Hydrography represents a key opportunity for networking\, promotion\, and demonstrations.
URL:https://ths-uki.org/event/remote-hydro-2027/
CATEGORIES:National Events
ATTACH;FMTTYPE=image/png:https://ths-uki.org/wp-content/uploads/2025/11/remote-hydro-banner.png
END:VEVENT
END:VCALENDAR