BEGIN:VCALENDAR
VERSION:2.0
PRODID:-//The Hydrographic Society - ECPv6.15.18//NONSGML v1.0//EN
CALSCALE:GREGORIAN
METHOD:PUBLISH
X-ORIGINAL-URL:https://ths-uki.org
X-WR-CALDESC:Events for The Hydrographic Society
REFRESH-INTERVAL;VALUE=DURATION:PT1H
X-Robots-Tag:noindex
X-PUBLISHED-TTL:PT1H
BEGIN:VTIMEZONE
TZID:Europe/London
BEGIN:DAYLIGHT
TZOFFSETFROM:+0000
TZOFFSETTO:+0100
TZNAME:BST
DTSTART:20220327T010000
END:DAYLIGHT
BEGIN:STANDARD
TZOFFSETFROM:+0100
TZOFFSETTO:+0000
TZNAME:GMT
DTSTART:20221030T010000
END:STANDARD
BEGIN:DAYLIGHT
TZOFFSETFROM:+0000
TZOFFSETTO:+0100
TZNAME:BST
DTSTART:20230326T010000
END:DAYLIGHT
BEGIN:STANDARD
TZOFFSETFROM:+0100
TZOFFSETTO:+0000
TZNAME:GMT
DTSTART:20231029T010000
END:STANDARD
BEGIN:DAYLIGHT
TZOFFSETFROM:+0000
TZOFFSETTO:+0100
TZNAME:BST
DTSTART:20240331T010000
END:DAYLIGHT
BEGIN:STANDARD
TZOFFSETFROM:+0100
TZOFFSETTO:+0000
TZNAME:GMT
DTSTART:20241027T010000
END:STANDARD
BEGIN:DAYLIGHT
TZOFFSETFROM:+0000
TZOFFSETTO:+0100
TZNAME:BST
DTSTART:20250330T010000
END:DAYLIGHT
BEGIN:STANDARD
TZOFFSETFROM:+0100
TZOFFSETTO:+0000
TZNAME:GMT
DTSTART:20251026T010000
END:STANDARD
BEGIN:DAYLIGHT
TZOFFSETFROM:+0000
TZOFFSETTO:+0100
TZNAME:BST
DTSTART:20260329T010000
END:DAYLIGHT
BEGIN:STANDARD
TZOFFSETFROM:+0100
TZOFFSETTO:+0000
TZNAME:GMT
DTSTART:20261025T010000
END:STANDARD
BEGIN:DAYLIGHT
TZOFFSETFROM:+0000
TZOFFSETTO:+0100
TZNAME:BST
DTSTART:20270328T010000
END:DAYLIGHT
BEGIN:STANDARD
TZOFFSETFROM:+0100
TZOFFSETTO:+0000
TZNAME:GMT
DTSTART:20271031T010000
END:STANDARD
END:VTIMEZONE
BEGIN:VEVENT
DTSTART;TZID=Europe/London:20260316T140000
DTEND;TZID=Europe/London:20260316T150000
DTSTAMP:20260423T014931
CREATED:20251222T095658Z
LAST-MODIFIED:20260202T115417Z
UID:10000152-1773669600-1773673200@ths-uki.org
SUMMARY:HPAS Webinar - Build a Successful Application
DESCRIPTION:
URL:https://ths-uki.org/event/hpas-webinar-build-a-successful-application-2/
CATEGORIES:National Events
ATTACH;FMTTYPE=image/jpeg:https://ths-uki.org/wp-content/uploads/2024/10/IFHS-Logo.jpg
LOCATION:https://ths-uki.org/event/hpas-webinar-build-a-successful-application-2/
END:VEVENT
BEGIN:VEVENT
DTSTART;TZID=Europe/London:20260311T130000
DTEND;TZID=Europe/London:20260311T140000
DTSTAMP:20260423T014931
CREATED:20251114T132400Z
LAST-MODIFIED:20260306T164324Z
UID:10000147-1773234000-1773237600@ths-uki.org
SUMMARY:THS:UKI AGM 2026 Oceanology International
DESCRIPTION:THS:UKI AGM 2026 \nThe Society’s Annual General Meeting is to be held on the afternoon of Wednesday 11th March at Oceanology International 2026 –  South Gallery room SG2 – Commencing from 13:00 \nAll THS:UKI members are requested to RSVP either on this event or by contacting manager@ths-uki.org \n2026 documents for AGM: \n2026 AGM – Agenda \n2026 AGM – Notice & Call for Nominations \n2026 AGM – Notes on AGM\, Proxies and the Proxy Form \n2026 AGM – Nominations Form \nStudent & New Graduate Director vote: \nTirren Ambroziak \nGeeske Droessler \nMemorandum and Articles of Association (MAA): \nTHSUK MAA – 2026 Update Rev002 \n2026 AGM – Proposed Adoption of Updated Memorandum and Articles of Association \n2025 documents for reference: \n2025 AGM – Minutes \nTHSUK 2025 Financial Statements \n 
URL:https://ths-uki.org/event/thsuki-agm-2026/
LOCATION:Excel London\, Excel London\, Royal Victoria Dock\, 1 Western Gateway\, Royal Docks\, London\, E16 1XL\, United Kingdom
CATEGORIES:National Events
ATTACH;FMTTYPE=image/png:https://ths-uki.org/wp-content/uploads/2025/03/The-Hydrographic-Society-Logo-RGB-2.png
END:VEVENT
BEGIN:VEVENT
DTSTART;VALUE=DATE:20251027
DTEND;VALUE=DATE:20251031
DTSTAMP:20260423T014931
CREATED:20241206T114431Z
LAST-MODIFIED:20251028T165510Z
UID:10000113-1761523200-1761868799@ths-uki.org
SUMMARY:HYDRO 2025
DESCRIPTION:Please note\, ticket sales for HYDRO have now closed – thank you for your support! \n  \nTHS:UKI are pleased to announce the date and location of the HYDRO 2025 Hydrographic Conference! For full information about the Conference and Exhibition please visit the main HYDRO 2025 webpage. \nDate: Tuesday 28th October – Thursday 30th October 2025\nVenue: Rum Warehouse\, Titanic Hotel Liverpool\, Stanley Dock\, Regent Rd\, Liverpool L3 0AN \nAll delegate fees include tea/coffee\, lunch and access to the HYDRO 2025 Conference and Exhibition.  \nIn addition to this\, 3 day delegate fees also include a ticket to the Icebreaker evening event being held on Monday 27th October (ticket numbers are limited for this) and the Gala Dinner on Wednesday 29th October. \n– Member rates are available for an Individual Member or up to TWO representatives of a Corporate Member of any IFHS member hydrographic society.\n– Student rates are available to full-time students at a university or other tertiary educational establishment during the academic year 2025/26.\n– Due to the limited capacity for the Icebreaker Event\, we ask that during the registration process\, you inform us whether you will be attending the social event. Tickets will be allocated on a first-come\, first-serve basis. Should your circumstances change and you are no longer able to attend the Icebreaker\, please ensure you inform us via event@ths-uki.org so we can reallocate your ticket to another person.\n– Tickets do not include accommodation. \nPlease note tickets cannot be refunded within 30 days of the event \nFor more information\, please email event@ths-uki.org \nMore info: HYDRO 2025 – The Hydrographic Society \nHYDRO 2025 Conference Programme: HYDRO 2025 Conference Programme \nMonday 27th October\nWorkshops 09:00 – 15:00\nIcebreaker (Titanic Hotel\, West Bay) 18:30 – 20:00 \nTuesday 28th October\nRegistration 08:30 – 09:00\nConference & Exhibition 09:00 – 17:15\nExhibition (evening extension with bar available) 17:15 – 19:30 \nWednesday 29th October\nRegistration 08:30 – 09:00\nConference & Exhibition 09:00 – 17:30\nGala dinner (Crowne Plaza) Welcome drinks from 18:30 \nThursday 30th October\nRegistration 08:30 – 09:00\nConference & Exhibition 09:00 – 17:00 \n 
URL:https://ths-uki.org/event/hydro-2025/
LOCATION:Rum Warehouse\, Titanic Hotel Liverpool\, Stanley Dock\, Liverpool\, L3 0AN\, United Kingdom
CATEGORIES:National Events
ATTACH;FMTTYPE=image/png:https://ths-uki.org/wp-content/uploads/2024/12/HYDRO-2025-169-7.png
ORGANIZER;CN="THS%3AUKI":MAILTO:event@ths-uki.org
END:VEVENT
BEGIN:VEVENT
DTSTART;TZID=Europe/London:20250409T120000
DTEND;TZID=Europe/London:20250409T140000
DTSTAMP:20260423T014931
CREATED:20250121T103813Z
LAST-MODIFIED:20250319T081726Z
UID:10000119-1744200000-1744207200@ths-uki.org
SUMMARY:THS:UKI AGM 2025
DESCRIPTION:THS:UKI AGM 2025 \nThe Society’s Annual General Meeting is to be held on Wednesday 9th April commencing at 1200 in NOC conference room 344/32\, at Ocean Business 2025. \nAll THS:UKI members are requested to RSVP either on this event or by contacting manager@ths-uki.org \nThe following documents can be downloaded: \n2024 AGM – Minutes \n2024 Financial Statement Annual Report \n2025 AGM – Agenda \n2025 AGM – Notes on AGM\, Proxies and the Proxy Form \n2025 AGM – Notice & Call for Nominations \n2025 AGM – Nominations Form
URL:https://ths-uki.org/event/2025-agm/
LOCATION:The National Oceanography Centre (NOC)\, European Way\, Southampton\, SO14 3ZH
CATEGORIES:National Events
ATTACH;FMTTYPE=image/png:https://ths-uki.org/wp-content/uploads/2025/01/cropped-WHITE-The-Hydrographic-Society-Logo-CMYK.png
END:VEVENT
BEGIN:VEVENT
DTSTART;TZID=Europe/London:20250403T140000
DTEND;TZID=Europe/London:20250403T150000
DTSTAMP:20260423T014931
CREATED:20250203T153630Z
LAST-MODIFIED:20250203T153630Z
UID:10000121-1743688800-1743692400@ths-uki.org
SUMMARY:HPAS Webinar - Build a Successful Application
DESCRIPTION:
URL:https://ths-uki.org/event/hpas-webinar-build-a-successful-application/
CATEGORIES:National Events
ATTACH;FMTTYPE=image/jpeg:https://ths-uki.org/wp-content/uploads/2024/10/IFHS-Logo.jpg
END:VEVENT
BEGIN:VEVENT
DTSTART;TZID=Europe/London:20240313T133000
DTEND;TZID=Europe/London:20240313T143000
DTSTAMP:20260423T014931
CREATED:20240212T113303Z
LAST-MODIFIED:20240304T154305Z
UID:10000076-1710336600-1710340200@ths-uki.org
SUMMARY:THS:UKI AGM 2024
DESCRIPTION:THS:UKI AGM 2024 \n  \nThe Society’s 20th Annual General Meeting is to be held on Wednesday 13 April commencing at 1300 in Meeting Room SG6\, Excel Centre (Oceanology International)\, London. \nAll THS:UKI members are requested to RSVP to: manager@ths-uki.org no \,later than 11th March 2024. \nA meeting invitation will be emailed to all Members prior to the AGM. Members who cannot attend in person can nominate a proxy using the online form. \nThe following documents can be downloaded: \n2024 AGM – Notice & Call for Nominations \n2024 AGM – Agenda \n2023 AGM – Minutes \n2024 AGM – Nominations Form \n2024 AGM – Notes on AGM\, Proxies and the Proxy Form \nTHSUK 2023 Draft financial Statements
URL:https://ths-uki.org/event/thsuki-agm-2024/
LOCATION:Excel London\, Excel London\, Royal Victoria Dock\, 1 Western Gateway\, Royal Docks\, London\, E16 1XL\, United Kingdom
CATEGORIES:National Events
END:VEVENT
BEGIN:VEVENT
DTSTART;VALUE=DATE:20240227
DTEND;VALUE=DATE:20240229
DTSTAMP:20260423T014931
CREATED:20230828T105727Z
LAST-MODIFIED:20240108T211319Z
UID:10000056-1708992000-1709164799@ths-uki.org
SUMMARY:Remote Hydrography 2024
DESCRIPTION:We are back in Dublin for THS:UKI’s second Remote Hydrography conference and exhibition in cojunction with INFOMAR. This event brings together manufacturers\, operators\, regulators\, and research and development leaders from both industry and academia\, within the rapidly developing field of remote surveying and uncrewed survey operations. \nRemote Hydrography 2024 provides an opportunity to share experience gained in the development and application of autonomous and uncrewed platforms (surface\, underwater\, aerial\, and space-based) and the associated command and support services. These and enabling technologies like machine learning and artificial intelligence will revolutionise workflows for hydrographic data collection\, processing\, analysis\, and presentation. \nThe conference will build on the success of the 2022 event which featured informative lively debates\, both in session and during the busy social programme. The 2024 event will also provide formal and informal opportunities to network\, make contacts\, and build relationships. Through leaders\, innovators\, and practitioners\, Remote Hydrography represents a key opportunity for networking\, promotion\, and demonstrations. For more information on the conference visit the Remote Hydrography 2024 dedicated webpage. \nTHS:UKI and our partner INFOMAR would like to invite you to join us for the Remote Hydrography 2024 Icebreaker on Monday 26 February 1800 – 2100 at The Old Storehouse (finger food provided). \nThe Remote Hydrography 2024 networking social ‘Taste of Ireland’ will take place on Tuesday 27 February within the Exhibition space at Dublin Castle. \nFurther details of these events\, along with information on the location and nearby hotels (some with negotiated preferential rates) can be found here. \nDelegate rates include all social and networking events. Please note that partner rates for social events ONLY are available upon request\, for more information please contact event@ths-uki.org.
URL:https://ths-uki.org/event/remote-hydrography-2024/
LOCATION:The Printworks\, Dublin Castle\, Dame St\, Dublin\, Dublin 2\, Ireland
CATEGORIES:Ireland,National Events
ATTACH;FMTTYPE=image/jpeg:https://ths-uki.org/wp-content/uploads/2023/10/Remote-Hydrography-logo-24-v1.jpeg
END:VEVENT
BEGIN:VEVENT
DTSTART;TZID=Europe/London:20230418T120000
DTEND;TZID=Europe/London:20230418T133000
DTSTAMP:20260423T014931
CREATED:20221230T095211Z
LAST-MODIFIED:20230323T133030Z
UID:10000033-1681819200-1681824600@ths-uki.org
SUMMARY:THS:UKI 19th AGM
DESCRIPTION:Where: Conference Room 344/32. National Oceanographic Centre\, Southampton \nWhen: Tuesday 18th April 2023\, 1200 \nRSVP requested via this website. \nRefreshments will be provided. \nFurther details and supporting paperwork will be posted on the website not less than 14 days prior to the AGM.
URL:https://ths-uki.org/event/thsuki-19th-agm/
LOCATION:The National Oceanography Centre (NOC)\, European Way\, Southampton\, SO14 3ZH
CATEGORIES:National Events
END:VEVENT
END:VCALENDAR