BEGIN:VCALENDAR
VERSION:2.0
PRODID:-//The Hydrographic Society - ECPv6.15.18//NONSGML v1.0//EN
CALSCALE:GREGORIAN
METHOD:PUBLISH
X-ORIGINAL-URL:https://ths-uki.org
X-WR-CALDESC:Events for The Hydrographic Society
REFRESH-INTERVAL;VALUE=DURATION:PT1H
X-Robots-Tag:noindex
X-PUBLISHED-TTL:PT1H
BEGIN:VTIMEZONE
TZID:Europe/London
BEGIN:DAYLIGHT
TZOFFSETFROM:+0000
TZOFFSETTO:+0100
TZNAME:BST
DTSTART:20250330T010000
END:DAYLIGHT
BEGIN:STANDARD
TZOFFSETFROM:+0100
TZOFFSETTO:+0000
TZNAME:GMT
DTSTART:20251026T010000
END:STANDARD
BEGIN:DAYLIGHT
TZOFFSETFROM:+0000
TZOFFSETTO:+0100
TZNAME:BST
DTSTART:20260329T010000
END:DAYLIGHT
BEGIN:STANDARD
TZOFFSETFROM:+0100
TZOFFSETTO:+0000
TZNAME:GMT
DTSTART:20261025T010000
END:STANDARD
BEGIN:DAYLIGHT
TZOFFSETFROM:+0000
TZOFFSETTO:+0100
TZNAME:BST
DTSTART:20270328T010000
END:DAYLIGHT
BEGIN:STANDARD
TZOFFSETFROM:+0100
TZOFFSETTO:+0000
TZNAME:GMT
DTSTART:20271031T010000
END:STANDARD
END:VTIMEZONE
BEGIN:VEVENT
DTSTART;TZID=Europe/London:20260311T130000
DTEND;TZID=Europe/London:20260311T140000
DTSTAMP:20260423T024247
CREATED:20251114T132400Z
LAST-MODIFIED:20260306T164324Z
UID:10000147-1773234000-1773237600@ths-uki.org
SUMMARY:THS:UKI AGM 2026 Oceanology International
DESCRIPTION:THS:UKI AGM 2026 \nThe Society’s Annual General Meeting is to be held on the afternoon of Wednesday 11th March at Oceanology International 2026 –  South Gallery room SG2 – Commencing from 13:00 \nAll THS:UKI members are requested to RSVP either on this event or by contacting manager@ths-uki.org \n2026 documents for AGM: \n2026 AGM – Agenda \n2026 AGM – Notice & Call for Nominations \n2026 AGM – Notes on AGM\, Proxies and the Proxy Form \n2026 AGM – Nominations Form \nStudent & New Graduate Director vote: \nTirren Ambroziak \nGeeske Droessler \nMemorandum and Articles of Association (MAA): \nTHSUK MAA – 2026 Update Rev002 \n2026 AGM – Proposed Adoption of Updated Memorandum and Articles of Association \n2025 documents for reference: \n2025 AGM – Minutes \nTHSUK 2025 Financial Statements \n 
URL:https://ths-uki.org/event/thsuki-agm-2026/
LOCATION:Excel London\, Excel London\, Royal Victoria Dock\, 1 Western Gateway\, Royal Docks\, London\, E16 1XL\, United Kingdom
CATEGORIES:National Events
ATTACH;FMTTYPE=image/png:https://ths-uki.org/wp-content/uploads/2025/03/The-Hydrographic-Society-Logo-RGB-2.png
END:VEVENT
BEGIN:VEVENT
DTSTART;TZID=Europe/London:20260316T140000
DTEND;TZID=Europe/London:20260316T150000
DTSTAMP:20260423T024247
CREATED:20251222T095658Z
LAST-MODIFIED:20260202T115417Z
UID:10000152-1773669600-1773673200@ths-uki.org
SUMMARY:HPAS Webinar - Build a Successful Application
DESCRIPTION:
URL:https://ths-uki.org/event/hpas-webinar-build-a-successful-application-2/
CATEGORIES:National Events
ATTACH;FMTTYPE=image/jpeg:https://ths-uki.org/wp-content/uploads/2024/10/IFHS-Logo.jpg
LOCATION:https://ths-uki.org/event/hpas-webinar-build-a-successful-application-2/
END:VEVENT
END:VCALENDAR